BEGIN:VCALENDAR
VERSION:2.0
PRODID:-//Marlingford and Colton Parish Council//Meeting Calendar//EN
CALSCALE:GREGORIAN
METHOD:PUBLISH
BEGIN:VEVENT
UID:71010-20260512@marlingfordandcolton-pc.gov.uk
DTSTAMP:20260423T081931Z
DTSTART;VALUE=DATE:20260512
DTEND;VALUE=DATE:20260513
SUMMARY:Annual Parish Council Meeting\\, 12th May 2026\\, 8pm
DESCRIPTION:Annual Council Meeting\nView details: https://marlingfordandcolton-pc.gov.uk/meetings/annual-parish-council-meeting-12th-may-8pm/
URL:https://marlingfordandcolton-pc.gov.uk/meetings/annual-parish-council-meeting-12th-may-8pm/
END:VEVENT
END:VCALENDAR
