BEGIN:VCALENDAR
VERSION:2.0
PRODID:-//Marlingford and Colton Parish Council//Meeting Calendar//EN
CALSCALE:GREGORIAN
METHOD:PUBLISH
BEGIN:VEVENT
UID:71009-20260512@marlingfordandcolton-pc.gov.uk
DTSTAMP:20260424T092213Z
DTSTART;VALUE=DATE:20260512
DTEND;VALUE=DATE:20260513
SUMMARY:Annual Parish Meeting\\, 12th May 2026\\, 7pm
DESCRIPTION:Annual Parish Meeting\nView details: https://marlingfordandcolton-pc.gov.uk/meetings/parish-council-meeting-12th-may-2026-7pm/
URL:https://marlingfordandcolton-pc.gov.uk/meetings/parish-council-meeting-12th-may-2026-7pm/
END:VEVENT
END:VCALENDAR
