BEGIN:VCALENDAR
VERSION:2.0
PRODID:-//Marlingford and Colton Parish Council//Meeting Calendar//EN
CALSCALE:GREGORIAN
METHOD:PUBLISH
BEGIN:VEVENT
UID:70602-20250513@marlingfordandcolton-pc.gov.uk
DTSTAMP:20260423T080313Z
DTSTART;VALUE=DATE:20250513
DTEND;VALUE=DATE:20250514
SUMMARY:Annual Parish Meeting &#8211\\; 13 May 2025
DESCRIPTION:Annual Parish Meeting\nView details: https://marlingfordandcolton-pc.gov.uk/meetings/annual-council-meeting-13-may-2025/
URL:https://marlingfordandcolton-pc.gov.uk/meetings/annual-council-meeting-13-may-2025/
END:VEVENT
END:VCALENDAR
